{"text_format":"1","workbook":"xlsx","n_sheets":3,"sheets":["voorblad","achtergrond","Tabel_rel"],"not_rendered":{"charts":0,"images":2,"macros":1,"external_links":0,"defined_names":0,"comments":0,"pivot_tables":0},"unopened":[],"bounds":{"document_bytes":16777216,"sheet_cells":100000,"rows_first":2000,"rows_last":500,"rows_between":2000,"halvings":0,"cell_chars":16384,"cell_head_chars":4096},"cells_cut":0,"cells_raw":0,"read":"whole","date_system":"1900"}

{"sheet":"voorblad","index":0,"n_rows":34,"n_cols":6,"rows_kept":34,"cut":false,"hidden":false,"merged":[[34,0,38,5],[0,0,3,5]]}
[]
[]
[]
[]
["Kenmerk","Eenheid","FW stier","Huidig bedrijfsniveau","Bedrijfsspecifieke fokwaarde","Verwacht bedrijfsniveau"]
["melk","kg",679,{"$f":"achtergrond!D3","v":8183},{"$f":"achtergrond!E3","v":0},{"$f":"D6+((C6-E6)/2)","v":8522.5}]
["vet","%",0.14000000000000001,{"$f":"achtergrond!D4","v":4.47},{"$f":"achtergrond!E4","v":0},4.54]
[null,"kg",42,{"$f":"achtergrond!D5","v":366},{"$f":"achtergrond!E5","v":0},387]
["eiwit","%",0.12,{"$f":"achtergrond!D6","v":3.58},{"$f":"achtergrond!E6","v":0},3.64]
[null,"kg",35,{"$f":"achtergrond!D7","v":293},{"$f":"achtergrond!E7","v":0},310.5]
["lactose","%",-0.06,{"$f":"achtergrond!D8","v":4.51},{"$f":"achtergrond!E8","v":0},4.4799999999999995]
[null,"kg",25,{"$f":"achtergrond!D9","v":369.05330000000004},{"$f":"achtergrond!E9","v":0},381.55330000000004]
["Inet","euro melkgeld",239,{"$f":"achtergrond!D10","v":2080.6159900000002},{"$f":"achtergrond!E10","v":0},2200.1159900000002]
["levensduur","dagen",500,{"$f":"achtergrond!D11","v":2054},{"$f":"achtergrond!E11","v":0},{"$f":"D14+((C14-E14)/2)","v":2304}]
[null,"jaar.maand",null,{"$f":"achtergrond!D12","v":5.07},{"$f":"achtergrond!E12","v":0},{"$f":"INT(F14/365.25)+ROUND((MOD(F14,365.26)/30.4375)/100,2)","v":6.04}]
["subklinische mastitis","%",98,{"$f":"achtergrond!D13","v":38},{"$f":"achtergrond!E13","v":100},{"$f":"D16+((C16-E16)*achtergrond!F13)","v":39.524467120012758}]
["klinische mastitis","%",101,{"$f":"achtergrond!D14","v":12.1},{"$f":"achtergrond!E14","v":100},{"$f":"D17+((C17-E17)*achtergrond!F14)","v":11.663393770085674}]
["celgetal","cellen x 1.000",98,{"$f":"achtergrond!D15","v":179},{"$f":"achtergrond!E15","v":100},{"$f":"D18+((C18-E18)*achtergrond!F15)","v":184}]
["interval afkalven-eerste inseminatie","dagen",102,{"$f":"achtergrond!D16","v":85},{"$f":"achtergrond!E16","v":100},{"$f":"D19+((C19-E19)*achtergrond!F16)","v":82.696849983175213}]
["interval eerste-laatste inseminatie","dagen",102,{"$f":"achtergrond!D17","v":47},{"$f":"achtergrond!E17","v":100},{"$f":"D20+((C20-E20)*achtergrond!F17)","v":44.227275707900262}]
["non-return 56 dagen","%",106,{"$f":"achtergrond!D18","v":60},{"$f":"achtergrond!E18","v":100},{"$f":"D21+((C21-E21)*achtergrond!F18)","v":64.293250516799603}]
["tussenkalftijd","dagen",104,{"$f":"achtergrond!D19","v":401},{"$f":"achtergrond!E19","v":100},{"$f":"D22+((C22-E22)*achtergrond!F19)","v":394.33651742705064}]
["drachtpercentage koe","%",107,{"$f":"achtergrond!D20","v":59},{"$f":"achtergrond!E20","v":100},{"$f":"D23+((C23-E23)*achtergrond!F20)","v":62.913118960624629}]
["drachtpercentage pink","%",102,{"$f":"achtergrond!D21","v":74},{"$f":"achtergrond!E21","v":100},{"$f":"D24+((C24-E24)*achtergrond!F21)","v":74.916787870774911}]
["geboortegemak","% makkelijke en normale geboortes",103,{"$f":"achtergrond!D22","v":95},{"$f":"achtergrond!E22","v":100},{"$f":"D25+((C25-E25)*achtergrond!F22)","v":96.115529848169999}]
["levensvatbaarheid","% levende kalveren",105,{"$f":"achtergrond!D23","v":92.6},{"$f":"achtergrond!E23","v":100},{"$f":"D26+((C26-E26)*achtergrond!F23)","v":96.7821420946687}]
["klauwgezondheid","% dieren met een klauwaandoening",102,{"$f":"achtergrond!D24","v":58},{"$f":"achtergrond!E24","v":100},{"$f":"D27+((C27-E27)*achtergrond!F24)","v":56.6}]
["kalvervitaliteit","% overleving",104,{"$f":"achtergrond!D25","v":90},{"$f":"achtergrond!E25","v":100},{"$f":"D28+((C28-E28)*achtergrond!F25)","v":91.113561852794902}]
["frame ","punten",101,{"$f":"achtergrond!D26","v":80.7},{"$f":"achtergrond!E26","v":100},{"$f":"D29+((C29-E29)*achtergrond!F26)","v":80.892499999999998}]
["type","punten",102,{"$f":"achtergrond!D27","v":80.8},{"$f":"achtergrond!E27","v":100},{"$f":"D30+((C30-E30)*achtergrond!F27)","v":80.944999999999993}]
["uier ","punten",98,{"$f":"achtergrond!D28","v":80.3},{"$f":"achtergrond!E28","v":100},{"$f":"D31+((C31-E31)*achtergrond!F28)","v":79.974999999999994}]
["beenwerk ","punten",114,{"$f":"achtergrond!D29","v":80.3},{"$f":"achtergrond!E29","v":100},{"$f":"D32+((C32-E32)*achtergrond!F29)","v":81.734999999999999}]
["algemeen voorkomen","punten",107,{"$f":"achtergrond!D30","v":80.400000000000006},{"$f":"achtergrond!E30","v":100},{"$f":"D33+((C33-E33)*achtergrond!F30)","v":80.94250000000001}]
["hoogtemaat","cm",96,{"$f":"achtergrond!D31","v":146.6},{"$f":"achtergrond!E31","v":100},{"$f":"D34+((C34-E34)*achtergrond!F31)","v":145.5}]

{"sheet":"achtergrond","index":1,"n_rows":47,"n_cols":7,"rows_kept":47,"cut":false,"hidden":true,"merged":[[0,2,0,3]]}
[null,null,"Nederlands gemiddelde"]
["Kenmerk","Eenheid","Zwartbont","Roodbont","Bedrijfsspecifieke fokwaarde","1 punt rel. fokwaarde"]
["melk","kg",8953,8183,0,null,"Jaarstatistieken 2017 tabel 24"]
["vet","%",4.28,4.47,0]
[null,"kg",383,366,0]
["eiwit","%",3.48,3.58,0]
[null,"kg",312,293,0]
["lactose","%",4.51,4.51,0,null,"Gemiddelde lactose gehalte uit Benchmark Lely 2016-2017"]
[null,"kg",{"$f":"C3*(C8/100)","v":403.78030000000001},{"$f":"D3*(D8/100)","v":369.05330000000004},0]
["Inet","euro melkgeld",{"$f":"0.3*C9+2.1*C5+4.1*C7","v":2204.63409},{"$f":"0.3*D9+2.1*D5+4.1*D7","v":2080.6159900000002},0]
["levensduur","dagen",2076,2054,0,null,"Jaarstatistieken 2017 tabel 1"]
[null,"jaar.maand",{"$f":"INT(C11/365.25)+ROUND((MOD(C11,365.26)/30.4375)/100,2)","v":5.08},{"$f":"INT(D11/365.25)+ROUND((MOD(D11,365.26)/30.4375)/100,2)","v":5.07},null,null,"Levensduur afgevoerde koeien. Kijk bv in de duurzaamheidsmonitor of jaaroverzicht"]
["subklinische mastitis","%",38,38,100,{"$f":"Tabel_rel!G6/4","v":-0.76223356000637998}]
["klinische mastitis","%",12.1,12.1,100,{"$f":"Tabel_rel!G5/4","v":-0.43660622991432502}]
["celgetal","cellen x 1.000",179,179,100,{"$f":"Tabel_rel!G7/4","v":-2.5}]
["interval afkalven-eerste inseminatie","dagen",85,85,100,{"$f":"Tabel_rel!G11/4","v":-1.1515750084123917}]
["interval eerste-laatste inseminatie","dagen",47,47,100,{"$f":"Tabel_rel!G10/4","v":-1.3863621460498696}]
["non-return percentage op 56 dagen","%",60,60,100,{"$f":"Tabel_rel!G12/4","v":0.71554175279993271}]
["tussenkalftijd","dagen",401,401,100,{"$f":"Tabel_rel!G9/4","v":-1.6658706432373434}]
["drachtpercentage koe","%",59,59,100,{"$f":"Tabel_rel!G13/4","v":0.55901699437494745}]
["drachtpercentage pink","%",74,74,100,{"$f":"Tabel_rel!G14/4","v":0.45839393538745682}]
["geboortegemak","% makkelijke en normale geboortes",95,95,100,{"$f":"Tabel_rel!G17/4","v":0.371843282723335}]
["levensvatbaarheid","% levende kalveren",{"$f":"95*0.7+87*0.3","v":92.6},{"$f":"95*0.7+87*0.3","v":92.6},100,{"$f":"Tabel_rel!G29/4","v":0.83642841893374231},"Fokwaarde geboortegemak"]
["klauwgezondheid","% dieren met een klauwaandoening",58,58,100,{"$f":"Tabel_rel!G34/4","v":-0.7},"Fokwaarde levensvatbaarheid bij geboorte"]
["kalvervitaliteit","% overleving",90,90,100,{"$f":"Tabel_rel!G42/4","v":0.27839046319872385}]
["frame ","punten",81,80.7,100,{"$f":"Tabel_rel!G82/4","v":0.1925}]
["type","punten",81,80.8,100,{"$f":"Tabel_rel!G83/4","v":7.2499999999999995E-2}]
["uier ","punten",80.7,80.3,100,{"$f":"Tabel_rel!G84/4","v":0.16250000000000001}]
["beenwerk ","punten",80.2,80.3,100,{"$f":"Tabel_rel!G85/4","v":0.10249999999999999}]
["algemeen voorkomen","punten",80.599999999999994,80.400000000000006,100,{"$f":"Tabel_rel!G87/4","v":7.7499999999999999E-2}]
["hoogtemaat","cm",147.19999999999999,146.6,100,{"$f":"Tabel_rel!G64/4","v":0.27500000000000002}]
[]
[]
[]
[]
[]
["1) de lijst met kenmerken kan aangevuld worden met alle kenmerken uit de conversie tabel"]
["2) Geef de juiste eenheid op per kenmerk"]
["3) De kolom FokWaarde stier is een kolom die ingevuld kan worden met de fokwaarde van elke willekeurige stier "]
["4) De kolom huidig bedrijfdsniveau kan het huidige bedrijfsniveau ingevuld worden"]
["5) In de kolom verwacht bedrijfsniveau komt de formule waarmee het verwachte bedrijfsniveau uitgerekend wordt: huidig + (1/2 * FW stier)"]
["6) De kolom Nederlands gemiddelde (zwartbont & roodbont) moet aangevuld worden met het nederlandsgemiddelde, dit is terug te vinden in de E-hoofdstukken"]
[]
["Alg. Vakken die ingevuld moeten worden door de gebruiker graag een kleurtje geven, vakken die niet ingevuld moeten worden door de gebruiker kunnen op het laatst vergrendeld worden"]
[]
["Informatie is te vinden op de CRV website: publicaties -> naslagwerken -> E-hoofdstukken & publicaties -> omrekeningen"]
[" "]

{"sheet":"Tabel_rel","index":2,"n_rows":91,"n_cols":9,"rows_kept":91,"cut":false,"hidden":true,"merged":[[44,0,44,8],[50,0,50,8],[62,0,62,8],[0,2,0,8],[2,0,2,8],[7,0,7,8],[15,0,15,8],[32,0,32,8],[40,0,40,8]]}
[null,null,"Fokwaarde"]
["Kenmerk","Eenheid",88,92,96,100,104,108,112]
["Uiergezondheid"]
["Uiergezondheid","euro (minder kosten)",{"$f":"G4*-3","v":-15.858194096428509},{"$f":"G4*-2","v":-10.572129397619006},{"$f":"G4*-1","v":-5.2860646988095032},0,5.2860646988095032,{"$f":"G4*2","v":10.572129397619006},{"$f":"G4*3","v":15.858194096428509}]
["Klinische mastitis","%",{"$f":"G5*-3","v":5.2392747589719004},{"$f":"G5*-2","v":3.4928498393146001},{"$f":"G5*-1","v":1.7464249196573001},0,-1.7464249196573001,{"$f":"G5*2","v":-3.4928498393146001},{"$f":"G5*3","v":-5.2392747589719004}]
["Subklinische mastitis","%",{"$f":"G6*-3","v":9.1468027200765594},{"$f":"G6*-2","v":6.0978684800510399},{"$f":"G6*-1","v":3.0489342400255199},0,-3.0489342400255199,{"$f":"G6*2","v":-6.0978684800510399},{"$f":"G6*3","v":-9.1468027200765594}]
["Celgetal","cellen / ml (x 1000)",{"$f":"-1*I7","v":30},{"$f":"-1*H7","v":20},{"$f":"-1*G7","v":10},0,-10,{"$f":"2*G7","v":-20},{"$f":"3*G7","v":-30}]
["Vruchtbaarheid"]
["Tussenkalftijd","dagen",{"$f":"G9*-3","v":19.99044771884812},{"$f":"G9*-2","v":13.326965145898747},{"$f":"G9*-1","v":6.6634825729493734},0,-6.6634825729493734,{"$f":"G9*2","v":-13.326965145898747},{"$f":"G9*3","v":-19.99044771884812}]
["Interval eerste-laatste inseminatie","dagen",16.636345752598437,11.090897168398957,5.5454485841994785,0,-5.5454485841994785,-11.090897168398957,-16.636345752598437]
["Interval afkalven-eerste inseminatie","dagen",13.818900100948699,9.2126000672991335,4.6063000336495667,0,-4.6063000336495667,-9.2126000672991335,-13.818900100948699]
["Non-return","%",{"$f":"G12*-3","v":-8.5865010335991929},{"$f":"G12*-2","v":-5.7243340223994617},{"$f":"G12*-1","v":-2.8621670111997308},0,2.8621670111997308,{"$f":"G12*2","v":5.7243340223994617},{"$f":"G12*3","v":8.5865010335991929}]
["Drachtpercentage koe","%",-6.7082039324993694,-4.4721359549995796,-2.2360679774997898,0,2.2360679774997898,4.4721359549995796,6.7082039324993694]
["Drachtpercentage pink","%",-5.5007272246494816,-3.6671514830996546,-1.8335757415498273,0,1.8335757415498273,3.6671514830996546,5.5007272246494816]
["Leeftijd bij eerste inseminatie","dagen",10.598962213349004,7.0659748088993357,3.5329874044496679,0,-3.5329874044496679,-7.0659748088993357,-10.598962213349004]
["Geboortekenmerken en levensvatbaarheid"]
["Geboortegemak vaars","% makkelijke & normale geboorten",{"$f":"G17*-3","v":-4.4621193926800196},{"$f":"G17*-2","v":-2.97474626178668},{"$f":"G17*-1","v":-1.48737313089334},0,{"$f":"1.48737313089334","v":1.48737313089334},{"$f":"G17*2","v":2.97474626178668},{"$f":"G17*3","v":4.4621193926800196}]
["Geboortegemak koe","% makkelijke & normale geboorten",{"$f":"G18*-3","v":-2.316157111871322},{"$f":"G18*-2","v":-1.5441047412475479},{"$f":"G18*-1","v":-0.77205237062377396},0,{"$f":"0.772052370623774","v":0.77205237062377396},{"$f":"G18*2","v":1.5441047412475479},{"$f":"G18*3","v":2.316157111871322}]
["Draagtijd vaars (direct)","dagen",-3.9046126568457469,-2.6030751045638314,-1.3015375522819157,0,1.3015375522819157,2.6030751045638314,3.9046126568457469]
["Draagtijd koe (direct)","dagen",-4.2848570571257101,-2.8565713714171399,-1.42828568570857,0,1.42828568570857,2.8565713714171399,4.2848570571257101]
["Geboortegewicht vaars (direct)","kg",-1.2938315191708696,-0.86255434611391302,-0.43127717305695651,0,0.43127717305695651,0.86255434611391302,1.2938315191708696]
["Geboortegewicht koe (direct)","kg",-1.6486357996840906,-1.099090533122727,-0.54954526656136349,0,0.54954526656136349,1.099090533122727,1.6486357996840906]
["Afkalfgemak vaars","% makkelijke & normale geboorten",-3.8436190164707997,-2.5624126776471998,-1.2812063388235999,0,1.2812063388235999,2.5624126776471998,3.8436190164707997]
["Afkalfgemak koe","% makkelijke & normale geboorten",-1.5085306558174829,-1.0056871038783219,-0.50284355193916097,0,0.50284355193916097,1.0056871038783219,1.5085306558174829]
["Draagtijd vaars (maternaal)","dagen",-1.438749456993816,-0.95916630466254393,-0.47958315233127197,0,0.47958315233127197,0.95916630466254393,1.438749456993816]
["Draagtijd koe (maternaal)","dagen",-1.6431676725154982,-1.0954451150103321,-0.54772255750516607,0,0.54772255750516607,1.0954451150103321,1.6431676725154982]
["Geboortegewicht vaars (maternaal)","kg",-0.67082039324993692,-0.44721359549995793,-0.22360679774997896,0,0.22360679774997896,0.44721359549995793,0.67082039324993692]
["Geboortegewicht koe (maternaal)","kg",-0.84852813742385702,-0.56568542494923801,-0.28284271247461901,0,0.28284271247461901,0.56568542494923801,0.84852813742385702]
["Levensvatbaarheid geboorte uit vaars","% levende kalveren",{"$f":"G29*-3","v":-10.037141027204907},{"$f":"G29*-2","v":-6.6914273514699385},{"$f":"G29*-1","v":-3.3457136757349693},0,3.3457136757349693,6.6914273514699385,{"$f":"G29*3","v":10.037141027204907}]
["Levensvatbaarheid geboorte uit koe","% levende kalveren",{"$f":"G30*-3","v":-2.1865452202046951},{"$f":"G30*-2","v":-1.4576968134697967},{"$f":"G30*-1","v":-0.72884840673489837},0,0.72884840673489837,1.4576968134697967,{"$f":"G30*3","v":2.1865452202046951}]
["Levensvatbaarheid bij afkalven als vaars","% levende kalveren",{"$f":"G31*-3","v":-14.266253888109517},{"$f":"G31*-2","v":-9.5108359254063455},{"$f":"G31*-1","v":-4.7554179627031727},0,4.7554179627031727,9.5108359254063455,{"$f":"G31*3","v":14.266253888109517}]
["Levensvatbaarheid bij afkalven als koe","% levende kalveren",{"$f":"G32*-3","v":-2.0448031690116286},{"$f":"G32*-2","v":-1.3632021126744192},{"$f":"G32*-1","v":-0.68160105633720958},0,0.68160105633720958,1.3632021126744192,{"$f":"G32*3","v":2.0448031690116286}]
["Klauwgezondheid"]
["Klauwgezondheid","% aandoening",{"$f":"G34*-3","v":8.3999999999999986},{"$f":"G34*-2","v":5.6},{"$f":"G34*-1","v":2.8},0,-2.8,-5.6,{"$f":"G34*3","v":-8.3999999999999986}]
["Zoolbloeding","% aandoening",{"$f":"G35*-3","v":8.6337643755770763},{"$f":"G35*-2","v":5.7558429170513845},{"$f":"G35*-1","v":2.8779214585256923},0,-2.8779214585256923,-5.7558429170513845,{"$f":"G35*3","v":-8.6337643755770763}]
["Mortellaro","% aandoening",7.6594606749206555,5.1063071166137703,2.5531535583068852,0,-2.5531535583068852,-5.1063071166137703,-7.6594606749206555]
["Stinkpoot","% aandoening",9.4688930490754579,6.3125953660503056,3.1562976830251528,0,-3.1562976830251528,-6.3125953660503056,-9.4688930490754579]
["Zoolzweer","% aandoening",2.7917201966722134,1.8611467977814755,0.93057339889073776,0,-0.93057339889073776,-1.8611467977814755,-2.7917201966722134]
["Tyloom","% aandoening",1.9261774298878884,1.2841182865919256,0.64205914329596281,0,-0.64205914329596281,-1.2841182865919256,-1.9261774298878884]
["Wittelijndefect","% aandoening",2.0771768254938214,1.3847845503292142,0.69239227516460711,0,-0.69239227516460711,-1.3847845503292142,-2.0771768254938214]
["Kalvervitaliteit"]
["Kalvervitaliteit (dag 3-365)","% overleving",{"$f":"G42*-3","v":-3.3406855583846862},{"$f":"G42*-2","v":-2.2271237055897908},{"$f":"G42*-1","v":-1.1135618527948954},0,1.1135618527948954,2.2271237055897908,{"$f":"G42*3","v":3.3406855583846862}]
["Kalvervitaliteit NUKA's (dag 3-14)","% overleving",{"$f":"G43*-3","v":-1.6099689437998483},{"$f":"G43*-2","v":-1.0733126291998989},{"$f":"G43*-1","v":-0.53665631459994945},0,0.53665631459994945,1.0733126291998989,{"$f":"G43*3","v":1.6099689437998483}]
["Kalvervitaliteit Mestkalveren (dag 15-180)","% overleving",{"$f":"G44*-3","v":-1.5026376808798587},{"$f":"G44*-2","v":-1.0017584539199058},{"$f":"G44*-1","v":-0.50087922695995291},0,0.50087922695995291,1.0017584539199058,{"$f":"G44*3","v":1.5026376808798587}]
["Melkbaarheid en AMS"]
["Melksnelheid","punten",{"$f":"G46*-3","v":-0.93674969975975975},{"$f":"G46*-2","v":-0.62449979983983983},{"$f":"G46*-1","v":-0.31224989991991992},0,0.31224989991991992,{"$f":"G46*2","v":0.62449979983983983},{"$f":"G46*3","v":0.93674969975975975}]
["Karakter","punten",{"$f":"G47*-3","v":-0.63441311461854244},{"$f":"G47*-2","v":-0.42294207641236164},{"$f":"G47*-1","v":-0.21147103820618082},0,0.21147103820618082,{"$f":"G47*2","v":0.42294207641236164},{"$f":"G47*3","v":0.63441311461854244}]
["Melkrobot efficiëntie","kg/minuut",{"$f":"G48*-3","v":-0.26849581002317335},{"$f":"G48*-2","v":-0.17899720668211555},{"$f":"G48*-1","v":-8.9498603341057775E-2},0,8.9498603341057775E-2,{"$f":"G48*2","v":0.17899720668211555},{"$f":"G48*3","v":0.26849581002317335}]
["Melkrobot interval","minuten",{"$f":"G49*-3","v":-47.981246336459407},{"$f":"G49*-2","v":-31.987497557639607},{"$f":"G49*-1","v":-15.993748778819803},0,15.993748778819803,{"$f":"G49*2","v":31.987497557639607},{"$f":"G49*3","v":47.981246336459407}]
["Melkrobot gewenning","minuten verschil interval kort na kalven en later",{"$f":"G50*-3","v":-27.265362642004234},{"$f":"G50*-2","v":-18.176908428002822},{"$f":"G50*-1","v":-9.0884542140014108},0,9.0884542140014108,{"$f":"G50*2","v":18.176908428002822},{"$f":"G50*3","v":27.265362642004234}]
["Lichaamsgewicht en bevleesheid"]
["Lichaamsgewicht","kg",{"$f":"G52*-3","v":-36},{"$f":"-1*H52","v":-24},{"$f":"-1*G52","v":-12},0,12,{"$f":"2*G52","v":24},{"$f":"3*G52","v":36}]
["Bevleesdheid koe","punten",-0.709929573971954,{"$f":"G53*-2","v":-0.47328638264796929},{"$f":"G53*-1","v":-0.23664319132398465},0,0.23664319132398465,{"$f":"G53*2","v":0.47328638264796929},{"$f":"G53*3","v":0.709929573971954}]
["Vetbedekking koe","punten",-1.4758048651498612,{"$f":"G54*-2","v":-0.98386991009990754},{"$f":"G54*-1","v":-0.49193495504995377},0,0.49193495504995377,0.98386991009990754,{"$f":"G54*3","v":1.4758048651498612}]
["Karkasgewicht koe","kg",-23.758787847867996,-15.839191898578663,-7.9195959492893317,0,7.9195959492893317,15.839191898578663,23.758787847867996]
["Bevleesdheid kalf","punten",-0.72249567472753773,-0.48166378315169178,-0.24083189157584589,0,0.24083189157584589,0.48166378315169178,0.72249567472753773]
["Vetbedekking kalf","punten",-1.0478549517943787,-0.69856996786291914,-0.34928498393145957,0,0.34928498393145957,0.69856996786291914,1.0478549517943787]
["Groei kalf","kg",-9.4925233736873142,-6.3283489157915431,-3.1641744578957716,0,3.1641744578957716,6.3283489157915431,9.4925233736873142]
["Vleeskleur kalf","punten",-0.68410525505948283,-0.45607017003965522,-0.22803508501982761,0,0.22803508501982761,0.45607017003965522,0.68410525505948283]
["Bevleesdheid vleesstier","punten",-0.68410525505948283,-0.45607017003965522,-0.22803508501982761,0,0.22803508501982761,0.45607017003965522,0.68410525505948283]
["Vetbedekking vleesstier","punten",-0.84852813742385702,-0.56568542494923801,-0.28284271247461901,0,0.28284271247461901,0.56568542494923801,0.84852813742385702]
["Groei vleesstier","kg",-16.922765731404546,-11.281843820936363,-5.6409219104681814,0,5.6409219104681814,11.281843820936363,16.922765731404546]
["Exterieur"]
["Hoogtemaat ","cm",{"$f":"-1*I64","v":-3.3000000000000003},{"$f":"-1*H64","v":-2.2000000000000002},{"$f":"-1*G64","v":-1.1000000000000001},0,1.1000000000000001,{"$f":"2*G64","v":2.2000000000000002},{"$f":"3*G64","v":3.3000000000000003}]
["Voorhand ","punten",{"$f":"-1*I65","v":-0.92999999999999994},{"$f":"-1*H65","v":-0.62},{"$f":"-1*G65","v":-0.31},0,0.31,{"$f":"2*G65","v":0.62},{"$f":"3*G65","v":0.92999999999999994}]
["Inhoud ","punten",-0.96,-0.64,-0.32,0,0.32,0.64,0.96]
["Openheid ","punten",-1.02,-0.68,-0.34,0,0.34,0.68,1.02]
["Conditie ","punten",-1.0499999999999998,-0.7,-0.35,0,0.35,0.7,1.0499999999999998]
["Kruisligging ","punten",-1.17,-0.78,-0.39,0,0.39,0.78,1.17]
["Kruisbreedte ","punten",-1.1400000000000001,-0.76,-0.38,0,0.38,0.76,1.1400000000000001]
["Beenstand achter ","punten",-0.78,-0.52,-0.26,0,0.26,0.52,0.78]
["Beenstand zij","punten",-0.89999999999999991,-0.6,-0.3,0,0.3,0.6,0.89999999999999991]
["Klauwhoek ","punten",-0.78,-0.52,-0.26,0,0.26,0.52,0.78]
["Beengebruik ","punten",-0.69000000000000006,-0.46,-0.23,0,0.23,0.46,0.69000000000000006]
["Vooruieraanhechting ","punten",-1.1099999999999999,-0.74,-0.37,0,0.37,0.74,1.1099999999999999]
["Voorspeenplaatsing ","punten",-1.41,-0.94,-0.47,0,0.47,0.94,1.41]
["Speenlengte ","punten",-1.26,-0.84,-0.42,0,0.42,0.84,1.26]
["Uierdiepte ","punten",-0.96,-0.64,-0.32,0,0.32,0.64,0.96]
["Achteruierhoogte ","punten",-0.89999999999999991,-0.6,-0.3,0,0.3,0.6,0.89999999999999991]
["Ophangband ","punten",-0.99,-0.66,-0.33,0,0.33,0.66,0.99]
["Achterspeenplaatsing","punten",-1.26,-0.84,-0.42,0,0.42,0.84,1.26]
["Frame ","punten",-2.31,-1.54,-0.77,0,0.77,1.54,2.31]
["Type","punten",-0.86999999999999988,-0.57999999999999996,-0.28999999999999998,0,0.28999999999999998,0.57999999999999996,0.86999999999999988]
["Uier ","punten",-1.9500000000000002,-1.3,-0.65,0,0.65,1.3,1.9500000000000002]
["Beenwerk ","punten",-1.23,-0.82,-0.41,0,0.41,0.82,1.23]
["Bespiering ","punten",-2.2800000000000002,-1.52,-0.76,0,0.76,1.52,2.2800000000000002]
["Algemeen voorkomen","punten",-0.92999999999999994,-0.62,-0.31,0,0.31,0.62,0.92999999999999994]
[]
[]
["Persistentie"]
["Laatrijpheid"]